BEGIN:VCALENDAR
VERSION:2.0
PRODID:-//Squarespace Inc/Squarespace 6//v6//EN
BEGIN:VEVENT
UID:5ca47903f4e1fcd633be16de@squarespace.com
DTSTAMP:20190426T055117Z
DTSTART:20190426T230000Z
DTEND:20190427T000000Z
SUMMARY: Pride and Prejudice - Information Night TONIGHT --NEW VENUE
GEO:-36.722034;144.255548
LOCATION:Eaglehawk Baptist Church\, Parsonage Grove\, Eaglehawk\, VIC\, 355
 6\, Australia
END:VEVENT
END:VCALENDAR
