BEGIN:VCALENDAR
VERSION:2.0
PRODID:-//Squarespace Inc/Squarespace 6//v6//EN
BEGIN:VEVENT
UID:5ca4843bb208fce608825020@squarespace.com
DTSTAMP:20190411T025510Z
DTSTART:20190427T130000Z
DTEND:20190428T210000Z
SUMMARY:Pride and Prejudice - Auditions
GEO:-36.794998;144.238953
LOCATION:JB Osborne Theatre\, Crusoe College\, 10 Olympic Parade\, Kangaroo 
 Flat\, VIC\, 3555\, Australia
END:VEVENT
END:VCALENDAR
