BEGIN:VCALENDAR
VERSION:2.0
PRODID:-//Squarespace Inc/Squarespace 6//v6//EN
BEGIN:VEVENT
UID:5d21830e59005400015e6060@squarespace.com
DTSTAMP:20190813T010430Z
DTSTART:20190818T000000Z
DTEND:20190818T030000Z
SUMMARY:Pride and Prejudice Performance 2
GEO:-36.786126;144.232429
LOCATION:JB Osborne Theatre\, Olympic Parade\, Kangaroo Flat\, Australia
END:VEVENT
END:VCALENDAR
