BEGIN:VCALENDAR
VERSION:2.0
PRODID:-//Squarespace Inc/Squarespace 6//v6//EN
BEGIN:VEVENT
UID:5d218455e722c40001eb6450@squarespace.com
DTSTAMP:20190813T010533Z
DTSTART:20190824T180000Z
DTEND:20190824T210000Z
SUMMARY:Pride and Prejudice Performance 5
GEO:-36.786126;144.232429
LOCATION:JB Osborne Theatre\, Olympic Parade\, Kangaroo Flat\, Australia
END:VEVENT
END:VCALENDAR
