BEGIN:VCALENDAR
VERSION:2.0
PRODID:-//Squarespace Inc/Squarespace 6//v6//EN
BEGIN:VEVENT
UID:5d2184a0a6c12f00019de64a@squarespace.com
DTSTAMP:20190813T010512Z
DTSTART:20190824T000000Z
DTEND:20190824T030000Z
SUMMARY:Pride and Prejudice Performance 4
GEO:-36.786126;144.232429
LOCATION:JB Osborne Theatre\, Olympic Parade\, Kangaroo Flat\, Australia
END:VEVENT
END:VCALENDAR
