BEGIN:VCALENDAR
VERSION:2.0
PRODID:-//Squarespace Inc/Squarespace 6//v6//EN
BEGIN:VEVENT
UID:5d2184c09813d80001c4af69@squarespace.com
DTSTAMP:20190813T010554Z
DTSTART:20190825T000000Z
DTEND:20190825T030000Z
SUMMARY:Pride and Prejudice Performance 6
GEO:-36.786126;144.232429
LOCATION:JB Osborne Theatre\, Olympic Parade\, Kangaroo Flat\, Australia
END:VEVENT
END:VCALENDAR
