BEGIN:VCALENDAR
VERSION:2.0
PRODID:-//Squarespace Inc/Squarespace 6//v6//EN
BEGIN:VEVENT
UID:5d2181a5eb83b800011a85b4@squarespace.com
DTSTAMP:20190813T010413Z
DTSTART:20190817T000000Z
DTEND:20190817T030000Z
SUMMARY:Pride and Prejudice Performance 1
GEO:-36.786126;144.232429
LOCATION:JB Osborne Theatre\, Olympic Parade\, Kangaroo Flat\, Australia
END:VEVENT
END:VCALENDAR
