BEGIN:VCALENDAR
VERSION:2.0
PRODID:-//Squarespace Inc/Squarespace 6//v6//EN
BEGIN:VEVENT
UID:5e43eb87f3256022ed614540@squarespace.com
DTSTAMP:20200212T121608Z
DTSTART:20200221T000000Z
DTEND:20200221T030000Z
SUMMARY:Leading Ladies -  Play Reading and Info Night 
GEO:-36.719156;144.254552
LOCATION:St Peters Anglican Church\, High Street\, Eaglehawk\, VIC\, 3556\, 
 Australia
END:VEVENT
END:VCALENDAR
