BEGIN:VCALENDAR
VERSION:2.0
PRODID:-//Squarespace Inc/Squarespace 6//v6//EN
BEGIN:VEVENT
UID:5e43ee3eeb114713c9d4a4d7@squarespace.com
DTSTAMP:20200212T122713Z
DTSTART:20200228T000000Z
DTEND:20200228T030000Z
SUMMARY:Leading Ladies - First Rehearsal
GEO:-36.719156;144.254552
LOCATION:St Peters Anglican Church\, High Street\, Eaglehawk\, VIC\, 3556\, 
 Australia
END:VEVENT
END:VCALENDAR
