BEGIN:VCALENDAR
VERSION:2.0
PRODID:-//Squarespace Inc/Squarespace 6//v6//EN
BEGIN:VEVENT
UID:5e43ee93e24d981546632793@squarespace.com
DTSTAMP:20200212T122557Z
DTSTART:20200226T000000Z
DTEND:20200226T003000Z
SUMMARY:Leading Ladies - Cast Announced
END:VEVENT
END:VCALENDAR
