BEGIN:VCALENDAR
VERSION:2.0
PRODID:-//Squarespace Inc/Squarespace 6//v6//EN
BEGIN:VEVENT
UID:5e43ed0c72d61415bce640f9@squarespace.com
DTSTAMP:20200212T122259Z
DTSTART:20200223T180000Z
DTEND:20200223T213000Z
SUMMARY:Leading Ladies - Auditions 
GEO:-36.719156;144.254552
LOCATION:St Peters Anglican Church\, High Street\, Eaglehawk\, VIC\, 3556\, 
 Australia
END:VEVENT
END:VCALENDAR
