BEGIN:VCALENDAR
VERSION:2.0
PRODID:-//Squarespace Inc/Squarespace 6//v6//EN
BEGIN:VEVENT
UID:5e43eca17bcc822d982d49e3@squarespace.com
DTSTAMP:20200212T122142Z
DTSTART:20200222T180000Z
DTEND:20200222T213000Z
SUMMARY:Leading Ladies - Auditions
GEO:-36.719156;144.254552
LOCATION:St Peters Anglican Church\, High Street\, Eaglehawk\, VIC\, 3556\, 
 Australia
END:VEVENT
END:VCALENDAR
