BEGIN:VCALENDAR
VERSION:2.0
PRODID:-//Squarespace Inc/Squarespace 6//v6//EN
BEGIN:VEVENT
UID:5d218047ac694d00017e0183@squarespace.com
DTSTAMP:20190707T053318Z
DTSTART:20190814T000000Z
DTEND:20190814T023000Z
SUMMARY:Pride and Prejudice Preview Performance
GEO:-36.786126;144.232429
LOCATION:JB Osborne Theatree\, Olympic Parade\, Kangaroo Flat\, Bendigo
END:VEVENT
END:VCALENDAR
